BEGIN:VCALENDAR
VERSION:2.0
PRODID:-//Atlanta Evergreen Lakeside Resort - ECPv6.15.11//NONSGML v1.0//EN
CALSCALE:GREGORIAN
METHOD:PUBLISH
X-ORIGINAL-URL:https://atlantaevergreen.com
X-WR-CALDESC:Events for Atlanta Evergreen Lakeside Resort
REFRESH-INTERVAL;VALUE=DURATION:PT1H
X-Robots-Tag:noindex
X-PUBLISHED-TTL:PT1H
BEGIN:VTIMEZONE
TZID:America/New_York
BEGIN:DAYLIGHT
TZOFFSETFROM:-0500
TZOFFSETTO:-0400
TZNAME:EDT
DTSTART:20250309T070000
END:DAYLIGHT
BEGIN:STANDARD
TZOFFSETFROM:-0400
TZOFFSETTO:-0500
TZNAME:EST
DTSTART:20251102T060000
END:STANDARD
BEGIN:DAYLIGHT
TZOFFSETFROM:-0500
TZOFFSETTO:-0400
TZNAME:EDT
DTSTART:20260308T070000
END:DAYLIGHT
BEGIN:STANDARD
TZOFFSETFROM:-0400
TZOFFSETTO:-0500
TZNAME:EST
DTSTART:20261101T060000
END:STANDARD
BEGIN:DAYLIGHT
TZOFFSETFROM:-0500
TZOFFSETTO:-0400
TZNAME:EDT
DTSTART:20270314T070000
END:DAYLIGHT
BEGIN:STANDARD
TZOFFSETFROM:-0400
TZOFFSETTO:-0500
TZNAME:EST
DTSTART:20271107T060000
END:STANDARD
END:VTIMEZONE
BEGIN:VEVENT
DTSTART;TZID=America/New_York:20260405T120000
DTEND;TZID=America/New_York:20260405T183000
DTSTAMP:20260422T103234
CREATED:20260225T224111Z
LAST-MODIFIED:20260225T224111Z
UID:10008261-1775390400-1775413800@atlantaevergreen.com
SUMMARY:Easter Brunch
DESCRIPTION:Join us for a memorable Easter Brunch at The Commons at Stone Mountain Golf Club\, where seasonal flavors\, scenic views\, and warm hospitality come together for a truly special celebration. Just minutes from Atlanta and nestled within the beauty of Stone Mountain Park\, this festive brunch features a thoughtfully curated selection of chef-crafted dishes\, classic brunch favorites\, and indulgent desserts designed for the whole family to enjoy. \nGather with friends and loved ones in a relaxed yet elevated setting overlooking the golf course\, with plenty of space to unwind and celebrate the holiday. Whether you’re continuing a cherished tradition or starting a new one\, Easter at The Commons offers the perfect blend of delicious cuisine\, inviting atmosphere\, and picturesque surroundings. \nReservations are strongly recommended. Secure your table today and celebrate Easter in a setting that feels worlds away—yet is conveniently close to home. \nView Sample Menu HERE
URL:https://atlantaevergreen.com/event/easter-brunch/
LOCATION:The Commons at Stone Mountain Golf Club\, 1145 Stonewall Jackson Drive\, Stone Mountain\, GA\, 30083\, United States
CATEGORIES:Culinary,Golf
ATTACH;FMTTYPE=image/jpeg:https://atlantaevergreen.com/wp-content/uploads/2025/05/auto-draft-34.jpg
END:VEVENT
END:VCALENDAR