BEGIN:VCALENDAR
VERSION:2.0
PRODID:-//Atlanta Evergreen Lakeside Resort - ECPv6.15.11//NONSGML v1.0//EN
CALSCALE:GREGORIAN
METHOD:PUBLISH
X-ORIGINAL-URL:https://atlantaevergreen.com
X-WR-CALDESC:Events for Atlanta Evergreen Lakeside Resort
REFRESH-INTERVAL;VALUE=DURATION:PT1H
X-Robots-Tag:noindex
X-PUBLISHED-TTL:PT1H
BEGIN:VTIMEZONE
TZID:America/New_York
BEGIN:DAYLIGHT
TZOFFSETFROM:-0500
TZOFFSETTO:-0400
TZNAME:EDT
DTSTART:20240310T070000
END:DAYLIGHT
BEGIN:STANDARD
TZOFFSETFROM:-0400
TZOFFSETTO:-0500
TZNAME:EST
DTSTART:20241103T060000
END:STANDARD
BEGIN:DAYLIGHT
TZOFFSETFROM:-0500
TZOFFSETTO:-0400
TZNAME:EDT
DTSTART:20250309T070000
END:DAYLIGHT
BEGIN:STANDARD
TZOFFSETFROM:-0400
TZOFFSETTO:-0500
TZNAME:EST
DTSTART:20251102T060000
END:STANDARD
BEGIN:DAYLIGHT
TZOFFSETFROM:-0500
TZOFFSETTO:-0400
TZNAME:EDT
DTSTART:20260308T070000
END:DAYLIGHT
BEGIN:STANDARD
TZOFFSETFROM:-0400
TZOFFSETTO:-0500
TZNAME:EST
DTSTART:20261101T060000
END:STANDARD
END:VTIMEZONE
BEGIN:VEVENT
DTSTART;TZID=America/New_York:20251121T110000
DTEND;TZID=America/New_York:20251121T120000
DTSTAMP:20260424T020927
CREATED:20250815T211159Z
LAST-MODIFIED:20260206T192040Z
UID:10007744-1763722800-1763726400@atlantaevergreen.com
SUMMARY:Birdwatching & Binoculars
DESCRIPTION:As part of our Evergreen Experience resort offerings\, we invite you to borrow a set of binoculars\, take a seat along the shoreline benches of Stone Mountain Lake and enjoy a moment with the abundant bird habitat found in the park.
URL:https://atlantaevergreen.com/event/birdwatching-binoculars/2025-11-21/
LOCATION:Atlanta Evergreen Resort\, 4021 Lakeview Dr\, Stone Mountain\, GA\, 30083\, United States
CATEGORIES:Family Friendly,Outdoor,Park
ATTACH;FMTTYPE=image/jpeg:https://atlantaevergreen.com/wp-content/uploads/2025/07/evergreen-experience-17.jpg
END:VEVENT
BEGIN:VEVENT
DTSTART;TZID=America/New_York:20251121T140000
DTEND;TZID=America/New_York:20251121T210000
DTSTAMP:20260424T020927
CREATED:20250808T191750Z
LAST-MODIFIED:20250808T191750Z
UID:10005402-1763733600-1763758800@atlantaevergreen.com
SUMMARY:Stone Mountain Christmas
DESCRIPTION:Atlanta’s most heartwarming holiday celebration takes place with dazzling lights\, festive music\, shows and all your favorite holiday characters!  A festive and memorable way to celebrate the season.  There’s even an opportunity to visit the North Pole and Santa’s village.  Click the link for more information to learn about the two Christmas festivals taking place this season!
URL:https://atlantaevergreen.com/event/stone-mountain-christmas/2025-11-21/
LOCATION:Stone Mountain Park\, 1000 Robert E Lee Blvd\, Stone Mountain Park\, GA\, 30083\, United States
CATEGORIES:Family Friendly,Outdoor,Park
ATTACH;FMTTYPE=image/jpeg:https://atlantaevergreen.com/wp-content/uploads/2022/10/stone-mountain-christmas.jpg
END:VEVENT
BEGIN:VEVENT
DTSTART;TZID=America/New_York:20251121T150000
DTEND;TZID=America/New_York:20251121T154500
DTSTAMP:20260424T020927
CREATED:20250321T183946Z
LAST-MODIFIED:20250815T205531Z
UID:10004748-1763737200-1763739900@atlantaevergreen.com
SUMMARY:Shuttle Tour of Stone Mountain Park
DESCRIPTION:Stone Mountain Park Offers Endless Adventures ~ Let Us Be Your Guide!\nWith so many areas to discover in the park\, our team welcomes you for a free semi-private tour around our wonderland.  Our guides will showcase the not-to-miss areas of the park while including facts\, lore and a few treasures along the way! \nThis complimentary tour has limited capacity and is on a first come basis.  Be sure to meet in the lobby at the scheduled departure time.  This is a special adventure you won’t want to miss. \nSchedule is subject to change without notice or compensation\, please inquire at the Front Desk for current schedule.
URL:https://atlantaevergreen.com/event/5217/2025-11-21/
LOCATION:GA
CATEGORIES:Family Friendly,Outdoor,Park,Resort
ATTACH;FMTTYPE=image/jpeg:https://atlantaevergreen.com/wp-content/uploads/2025/01/auto-draft-18.jpg
END:VEVENT
BEGIN:VEVENT
DTSTART;TZID=America/New_York:20251121T150000
DTEND;TZID=America/New_York:20251121T170000
DTSTAMP:20260424T020927
CREATED:20250310T180513Z
LAST-MODIFIED:20260128T162904Z
UID:10007242-1763737200-1763744400@atlantaevergreen.com
SUMMARY:Happy Hour at The Commons
DESCRIPTION:Join us for Happy Hour overlooking Stone Mountain Lake at Stone Mountain Golf Course each Friday afternoon from 3-5p. \nDrink & Food Specials \nThe perfect way to end the day! \nEnjoy curated menu and drink specials
URL:https://atlantaevergreen.com/event/happy-hour-at-the-commons/2025-11-21/
LOCATION:The Commons at Stone Mountain Golf Club\, 1145 Stonewall Jackson Drive\, Stone Mountain\, GA\, 30083\, United States
CATEGORIES:F&B,Golf
ATTACH;FMTTYPE=image/jpeg:https://atlantaevergreen.com/wp-content/uploads/2025/02/auto-draft-21.jpg
END:VEVENT
BEGIN:VEVENT
DTSTART;TZID=America/New_York:20251122T100000
DTEND;TZID=America/New_York:20251122T170000
DTSTAMP:20260424T020927
CREATED:20250131T201458Z
LAST-MODIFIED:20251111T220537Z
UID:10006557-1763805600-1763830800@atlantaevergreen.com
SUMMARY:Book Nook
DESCRIPTION:We invite you to exchange a book while you are with us!\nOur reading nook offers a selection of books for guests to trade with ones they have completed.  From kids’ books to adult topics\, we hope you will find something that enhances your visit. \nSelections will vary\, but please participate with the exchange while you are here. \nBook Exchange at Atlanta Evergreen
URL:https://atlantaevergreen.com/event/book-nook/2025-11-22/
LOCATION:Atlanta Evergreen Resort\, 4021 Lakeview Dr\, Stone Mountain\, GA\, 30083\, United States
CATEGORIES:Family Friendly,Resort
ATTACH;FMTTYPE=image/jpeg:https://atlantaevergreen.com/wp-content/uploads/2025/01/auto-draft-17.jpg
END:VEVENT
BEGIN:VEVENT
DTSTART;TZID=America/New_York:20251122T110000
DTEND;TZID=America/New_York:20251122T120000
DTSTAMP:20260424T020927
CREATED:20250815T211159Z
LAST-MODIFIED:20260206T192040Z
UID:10007745-1763809200-1763812800@atlantaevergreen.com
SUMMARY:Birdwatching & Binoculars
DESCRIPTION:As part of our Evergreen Experience resort offerings\, we invite you to borrow a set of binoculars\, take a seat along the shoreline benches of Stone Mountain Lake and enjoy a moment with the abundant bird habitat found in the park.
URL:https://atlantaevergreen.com/event/birdwatching-binoculars/2025-11-22/
LOCATION:Atlanta Evergreen Resort\, 4021 Lakeview Dr\, Stone Mountain\, GA\, 30083\, United States
CATEGORIES:Family Friendly,Outdoor,Park
ATTACH;FMTTYPE=image/jpeg:https://atlantaevergreen.com/wp-content/uploads/2025/07/evergreen-experience-17.jpg
END:VEVENT
BEGIN:VEVENT
DTSTART;TZID=America/New_York:20251122T140000
DTEND;TZID=America/New_York:20251122T210000
DTSTAMP:20260424T020927
CREATED:20250808T191750Z
LAST-MODIFIED:20250808T191750Z
UID:10005403-1763820000-1763845200@atlantaevergreen.com
SUMMARY:Stone Mountain Christmas
DESCRIPTION:Atlanta’s most heartwarming holiday celebration takes place with dazzling lights\, festive music\, shows and all your favorite holiday characters!  A festive and memorable way to celebrate the season.  There’s even an opportunity to visit the North Pole and Santa’s village.  Click the link for more information to learn about the two Christmas festivals taking place this season!
URL:https://atlantaevergreen.com/event/stone-mountain-christmas/2025-11-22/
LOCATION:Stone Mountain Park\, 1000 Robert E Lee Blvd\, Stone Mountain Park\, GA\, 30083\, United States
CATEGORIES:Family Friendly,Outdoor,Park
ATTACH;FMTTYPE=image/jpeg:https://atlantaevergreen.com/wp-content/uploads/2022/10/stone-mountain-christmas.jpg
END:VEVENT
BEGIN:VEVENT
DTSTART;TZID=America/New_York:20251123T100000
DTEND;TZID=America/New_York:20251123T170000
DTSTAMP:20260424T020927
CREATED:20250131T201458Z
LAST-MODIFIED:20251111T220537Z
UID:10006558-1763892000-1763917200@atlantaevergreen.com
SUMMARY:Book Nook
DESCRIPTION:We invite you to exchange a book while you are with us!\nOur reading nook offers a selection of books for guests to trade with ones they have completed.  From kids’ books to adult topics\, we hope you will find something that enhances your visit. \nSelections will vary\, but please participate with the exchange while you are here. \nBook Exchange at Atlanta Evergreen
URL:https://atlantaevergreen.com/event/book-nook/2025-11-23/
LOCATION:Atlanta Evergreen Resort\, 4021 Lakeview Dr\, Stone Mountain\, GA\, 30083\, United States
CATEGORIES:Family Friendly,Resort
ATTACH;FMTTYPE=image/jpeg:https://atlantaevergreen.com/wp-content/uploads/2025/01/auto-draft-17.jpg
END:VEVENT
BEGIN:VEVENT
DTSTART;TZID=America/New_York:20251123T110000
DTEND;TZID=America/New_York:20251123T120000
DTSTAMP:20260424T020927
CREATED:20250815T211159Z
LAST-MODIFIED:20260206T192040Z
UID:10007746-1763895600-1763899200@atlantaevergreen.com
SUMMARY:Birdwatching & Binoculars
DESCRIPTION:As part of our Evergreen Experience resort offerings\, we invite you to borrow a set of binoculars\, take a seat along the shoreline benches of Stone Mountain Lake and enjoy a moment with the abundant bird habitat found in the park.
URL:https://atlantaevergreen.com/event/birdwatching-binoculars/2025-11-23/
LOCATION:Atlanta Evergreen Resort\, 4021 Lakeview Dr\, Stone Mountain\, GA\, 30083\, United States
CATEGORIES:Family Friendly,Outdoor,Park
ATTACH;FMTTYPE=image/jpeg:https://atlantaevergreen.com/wp-content/uploads/2025/07/evergreen-experience-17.jpg
END:VEVENT
BEGIN:VEVENT
DTSTART;TZID=America/New_York:20251123T110000
DTEND;TZID=America/New_York:20251123T170000
DTSTAMP:20260424T020927
CREATED:20250106T231023Z
LAST-MODIFIED:20251217T203508Z
UID:10007288-1763895600-1763917200@atlantaevergreen.com
SUMMARY:Sunday Brunch
DESCRIPTION:Enjoy a special menu filled with delicious culinary temptations this weekend! Brunch is Back in Stone Mountain Park at The Commons at Stone Mountain Golf Club!
URL:https://atlantaevergreen.com/event/sunday-brunch-2/2025-11-23/
LOCATION:GA
CATEGORIES:F&B,Golf
ATTACH;FMTTYPE=image/jpeg:https://atlantaevergreen.com/wp-content/uploads/2025/01/sunday-brunch-2.jpg
END:VEVENT
BEGIN:VEVENT
DTSTART;TZID=America/New_York:20251123T130000
DTEND;TZID=America/New_York:20251123T140000
DTSTAMP:20260424T020927
CREATED:20250131T215532Z
LAST-MODIFIED:20250321T184559Z
UID:10001480-1763902800-1763906400@atlantaevergreen.com
SUMMARY:Guided Hike in Stone Mountain Park
DESCRIPTION:Join our team as we take an adventure into the woodlands around the Atlanta Evergreen Lakeside Resort! \nExplore the trail system with our team member as you learn about the setting\, lesser-known facts and a few stories about the area. \nOutdoor exploration adds a memorable time to any stay…and our team provides highlights for you to enjoy along the way. \nHikes depart from the lobby and last about an hour.  We look forward to seeing you there!
URL:https://atlantaevergreen.com/event/guided-hike-in-stone-mountain-park/2025-11-23/
LOCATION:GA
CATEGORIES:Family Friendly,Outdoor,Park,Resort
ATTACH;FMTTYPE=image/jpeg:https://atlantaevergreen.com/wp-content/uploads/2025/01/auto-draft-19.jpeg
END:VEVENT
BEGIN:VEVENT
DTSTART;TZID=America/New_York:20251123T140000
DTEND;TZID=America/New_York:20251123T210000
DTSTAMP:20260424T020927
CREATED:20250808T191750Z
LAST-MODIFIED:20250808T191750Z
UID:10005404-1763906400-1763931600@atlantaevergreen.com
SUMMARY:Stone Mountain Christmas
DESCRIPTION:Atlanta’s most heartwarming holiday celebration takes place with dazzling lights\, festive music\, shows and all your favorite holiday characters!  A festive and memorable way to celebrate the season.  There’s even an opportunity to visit the North Pole and Santa’s village.  Click the link for more information to learn about the two Christmas festivals taking place this season!
URL:https://atlantaevergreen.com/event/stone-mountain-christmas/2025-11-23/
LOCATION:Stone Mountain Park\, 1000 Robert E Lee Blvd\, Stone Mountain Park\, GA\, 30083\, United States
CATEGORIES:Family Friendly,Outdoor,Park
ATTACH;FMTTYPE=image/jpeg:https://atlantaevergreen.com/wp-content/uploads/2022/10/stone-mountain-christmas.jpg
END:VEVENT
BEGIN:VEVENT
DTSTART;TZID=America/New_York:20251123T150000
DTEND;TZID=America/New_York:20251123T154500
DTSTAMP:20260424T020927
CREATED:20250321T183946Z
LAST-MODIFIED:20250815T205531Z
UID:10004749-1763910000-1763912700@atlantaevergreen.com
SUMMARY:Shuttle Tour of Stone Mountain Park
DESCRIPTION:Stone Mountain Park Offers Endless Adventures ~ Let Us Be Your Guide!\nWith so many areas to discover in the park\, our team welcomes you for a free semi-private tour around our wonderland.  Our guides will showcase the not-to-miss areas of the park while including facts\, lore and a few treasures along the way! \nThis complimentary tour has limited capacity and is on a first come basis.  Be sure to meet in the lobby at the scheduled departure time.  This is a special adventure you won’t want to miss. \nSchedule is subject to change without notice or compensation\, please inquire at the Front Desk for current schedule.
URL:https://atlantaevergreen.com/event/5217/2025-11-23/
LOCATION:GA
CATEGORIES:Family Friendly,Outdoor,Park,Resort
ATTACH;FMTTYPE=image/jpeg:https://atlantaevergreen.com/wp-content/uploads/2025/01/auto-draft-18.jpg
END:VEVENT
BEGIN:VEVENT
DTSTART;TZID=America/New_York:20251124T100000
DTEND;TZID=America/New_York:20251124T170000
DTSTAMP:20260424T020927
CREATED:20250131T201458Z
LAST-MODIFIED:20251111T220537Z
UID:10006559-1763978400-1764003600@atlantaevergreen.com
SUMMARY:Book Nook
DESCRIPTION:We invite you to exchange a book while you are with us!\nOur reading nook offers a selection of books for guests to trade with ones they have completed.  From kids’ books to adult topics\, we hope you will find something that enhances your visit. \nSelections will vary\, but please participate with the exchange while you are here. \nBook Exchange at Atlanta Evergreen
URL:https://atlantaevergreen.com/event/book-nook/2025-11-24/
LOCATION:Atlanta Evergreen Resort\, 4021 Lakeview Dr\, Stone Mountain\, GA\, 30083\, United States
CATEGORIES:Family Friendly,Resort
ATTACH;FMTTYPE=image/jpeg:https://atlantaevergreen.com/wp-content/uploads/2025/01/auto-draft-17.jpg
END:VEVENT
BEGIN:VEVENT
DTSTART;TZID=America/New_York:20251124T110000
DTEND;TZID=America/New_York:20251124T120000
DTSTAMP:20260424T020927
CREATED:20250815T211159Z
LAST-MODIFIED:20260206T192040Z
UID:10007747-1763982000-1763985600@atlantaevergreen.com
SUMMARY:Birdwatching & Binoculars
DESCRIPTION:As part of our Evergreen Experience resort offerings\, we invite you to borrow a set of binoculars\, take a seat along the shoreline benches of Stone Mountain Lake and enjoy a moment with the abundant bird habitat found in the park.
URL:https://atlantaevergreen.com/event/birdwatching-binoculars/2025-11-24/
LOCATION:Atlanta Evergreen Resort\, 4021 Lakeview Dr\, Stone Mountain\, GA\, 30083\, United States
CATEGORIES:Family Friendly,Outdoor,Park
ATTACH;FMTTYPE=image/jpeg:https://atlantaevergreen.com/wp-content/uploads/2025/07/evergreen-experience-17.jpg
END:VEVENT
BEGIN:VEVENT
DTSTART;TZID=America/New_York:20251124T140000
DTEND;TZID=America/New_York:20251124T210000
DTSTAMP:20260424T020927
CREATED:20250808T192023Z
LAST-MODIFIED:20251117T211418Z
UID:10006623-1763992800-1764018000@atlantaevergreen.com
SUMMARY:Stone Mountain Christmas
DESCRIPTION:Atlanta’s most heartwarming holiday celebration takes place with dazzling lights\, festive music\, shows and all your favorite holiday characters!  A festive and memorable way to celebrate the season.  There’s even an opportunity to visit the North Pole and Santa’s village.  Click the link for more information to learn about the two Christmas festivals taking place this season!
URL:https://atlantaevergreen.com/event/stone-mountain-christmas-2/2025-11-24/
LOCATION:Stone Mountain Park\, 1000 Robert E Lee Blvd\, Stone Mountain Park\, GA\, 30083\, United States
CATEGORIES:Family Friendly,Outdoor,Park
ATTACH;FMTTYPE=image/jpeg:https://atlantaevergreen.com/wp-content/uploads/2022/10/stone-mountain-christmas.jpg
END:VEVENT
BEGIN:VEVENT
DTSTART;TZID=America/New_York:20251124T150000
DTEND;TZID=America/New_York:20251124T154500
DTSTAMP:20260424T020927
CREATED:20250321T183946Z
LAST-MODIFIED:20250815T205531Z
UID:10004750-1763996400-1763999100@atlantaevergreen.com
SUMMARY:Shuttle Tour of Stone Mountain Park
DESCRIPTION:Stone Mountain Park Offers Endless Adventures ~ Let Us Be Your Guide!\nWith so many areas to discover in the park\, our team welcomes you for a free semi-private tour around our wonderland.  Our guides will showcase the not-to-miss areas of the park while including facts\, lore and a few treasures along the way! \nThis complimentary tour has limited capacity and is on a first come basis.  Be sure to meet in the lobby at the scheduled departure time.  This is a special adventure you won’t want to miss. \nSchedule is subject to change without notice or compensation\, please inquire at the Front Desk for current schedule.
URL:https://atlantaevergreen.com/event/5217/2025-11-24/
LOCATION:GA
CATEGORIES:Family Friendly,Outdoor,Park,Resort
ATTACH;FMTTYPE=image/jpeg:https://atlantaevergreen.com/wp-content/uploads/2025/01/auto-draft-18.jpg
END:VEVENT
BEGIN:VEVENT
DTSTART;TZID=America/New_York:20251125T100000
DTEND;TZID=America/New_York:20251125T170000
DTSTAMP:20260424T020927
CREATED:20250131T201458Z
LAST-MODIFIED:20251111T220537Z
UID:10006560-1764064800-1764090000@atlantaevergreen.com
SUMMARY:Book Nook
DESCRIPTION:We invite you to exchange a book while you are with us!\nOur reading nook offers a selection of books for guests to trade with ones they have completed.  From kids’ books to adult topics\, we hope you will find something that enhances your visit. \nSelections will vary\, but please participate with the exchange while you are here. \nBook Exchange at Atlanta Evergreen
URL:https://atlantaevergreen.com/event/book-nook/2025-11-25/
LOCATION:Atlanta Evergreen Resort\, 4021 Lakeview Dr\, Stone Mountain\, GA\, 30083\, United States
CATEGORIES:Family Friendly,Resort
ATTACH;FMTTYPE=image/jpeg:https://atlantaevergreen.com/wp-content/uploads/2025/01/auto-draft-17.jpg
END:VEVENT
BEGIN:VEVENT
DTSTART;TZID=America/New_York:20251125T110000
DTEND;TZID=America/New_York:20251125T120000
DTSTAMP:20260424T020927
CREATED:20250815T211159Z
LAST-MODIFIED:20260206T192040Z
UID:10007748-1764068400-1764072000@atlantaevergreen.com
SUMMARY:Birdwatching & Binoculars
DESCRIPTION:As part of our Evergreen Experience resort offerings\, we invite you to borrow a set of binoculars\, take a seat along the shoreline benches of Stone Mountain Lake and enjoy a moment with the abundant bird habitat found in the park.
URL:https://atlantaevergreen.com/event/birdwatching-binoculars/2025-11-25/
LOCATION:Atlanta Evergreen Resort\, 4021 Lakeview Dr\, Stone Mountain\, GA\, 30083\, United States
CATEGORIES:Family Friendly,Outdoor,Park
ATTACH;FMTTYPE=image/jpeg:https://atlantaevergreen.com/wp-content/uploads/2025/07/evergreen-experience-17.jpg
END:VEVENT
BEGIN:VEVENT
DTSTART;TZID=America/New_York:20251125T140000
DTEND;TZID=America/New_York:20251125T210000
DTSTAMP:20260424T020927
CREATED:20250808T192023Z
LAST-MODIFIED:20251117T211418Z
UID:10006624-1764079200-1764104400@atlantaevergreen.com
SUMMARY:Stone Mountain Christmas
DESCRIPTION:Atlanta’s most heartwarming holiday celebration takes place with dazzling lights\, festive music\, shows and all your favorite holiday characters!  A festive and memorable way to celebrate the season.  There’s even an opportunity to visit the North Pole and Santa’s village.  Click the link for more information to learn about the two Christmas festivals taking place this season!
URL:https://atlantaevergreen.com/event/stone-mountain-christmas-2/2025-11-25/
LOCATION:Stone Mountain Park\, 1000 Robert E Lee Blvd\, Stone Mountain Park\, GA\, 30083\, United States
CATEGORIES:Family Friendly,Outdoor,Park
ATTACH;FMTTYPE=image/jpeg:https://atlantaevergreen.com/wp-content/uploads/2022/10/stone-mountain-christmas.jpg
END:VEVENT
BEGIN:VEVENT
DTSTART;TZID=America/New_York:20251126T100000
DTEND;TZID=America/New_York:20251126T170000
DTSTAMP:20260424T020927
CREATED:20250131T201458Z
LAST-MODIFIED:20251111T220537Z
UID:10006561-1764151200-1764176400@atlantaevergreen.com
SUMMARY:Book Nook
DESCRIPTION:We invite you to exchange a book while you are with us!\nOur reading nook offers a selection of books for guests to trade with ones they have completed.  From kids’ books to adult topics\, we hope you will find something that enhances your visit. \nSelections will vary\, but please participate with the exchange while you are here. \nBook Exchange at Atlanta Evergreen
URL:https://atlantaevergreen.com/event/book-nook/2025-11-26/
LOCATION:Atlanta Evergreen Resort\, 4021 Lakeview Dr\, Stone Mountain\, GA\, 30083\, United States
CATEGORIES:Family Friendly,Resort
ATTACH;FMTTYPE=image/jpeg:https://atlantaevergreen.com/wp-content/uploads/2025/01/auto-draft-17.jpg
END:VEVENT
BEGIN:VEVENT
DTSTART;TZID=America/New_York:20251126T110000
DTEND;TZID=America/New_York:20251126T120000
DTSTAMP:20260424T020927
CREATED:20250815T211159Z
LAST-MODIFIED:20260206T192040Z
UID:10007749-1764154800-1764158400@atlantaevergreen.com
SUMMARY:Birdwatching & Binoculars
DESCRIPTION:As part of our Evergreen Experience resort offerings\, we invite you to borrow a set of binoculars\, take a seat along the shoreline benches of Stone Mountain Lake and enjoy a moment with the abundant bird habitat found in the park.
URL:https://atlantaevergreen.com/event/birdwatching-binoculars/2025-11-26/
LOCATION:Atlanta Evergreen Resort\, 4021 Lakeview Dr\, Stone Mountain\, GA\, 30083\, United States
CATEGORIES:Family Friendly,Outdoor,Park
ATTACH;FMTTYPE=image/jpeg:https://atlantaevergreen.com/wp-content/uploads/2025/07/evergreen-experience-17.jpg
END:VEVENT
BEGIN:VEVENT
DTSTART;TZID=America/New_York:20251126T140000
DTEND;TZID=America/New_York:20251126T210000
DTSTAMP:20260424T020927
CREATED:20250808T192023Z
LAST-MODIFIED:20251117T211418Z
UID:10006625-1764165600-1764190800@atlantaevergreen.com
SUMMARY:Stone Mountain Christmas
DESCRIPTION:Atlanta’s most heartwarming holiday celebration takes place with dazzling lights\, festive music\, shows and all your favorite holiday characters!  A festive and memorable way to celebrate the season.  There’s even an opportunity to visit the North Pole and Santa’s village.  Click the link for more information to learn about the two Christmas festivals taking place this season!
URL:https://atlantaevergreen.com/event/stone-mountain-christmas-2/2025-11-26/
LOCATION:Stone Mountain Park\, 1000 Robert E Lee Blvd\, Stone Mountain Park\, GA\, 30083\, United States
CATEGORIES:Family Friendly,Outdoor,Park
ATTACH;FMTTYPE=image/jpeg:https://atlantaevergreen.com/wp-content/uploads/2022/10/stone-mountain-christmas.jpg
END:VEVENT
BEGIN:VEVENT
DTSTART;TZID=America/New_York:20251127T100000
DTEND;TZID=America/New_York:20251127T170000
DTSTAMP:20260424T020927
CREATED:20250131T201458Z
LAST-MODIFIED:20251111T220537Z
UID:10006562-1764237600-1764262800@atlantaevergreen.com
SUMMARY:Book Nook
DESCRIPTION:We invite you to exchange a book while you are with us!\nOur reading nook offers a selection of books for guests to trade with ones they have completed.  From kids’ books to adult topics\, we hope you will find something that enhances your visit. \nSelections will vary\, but please participate with the exchange while you are here. \nBook Exchange at Atlanta Evergreen
URL:https://atlantaevergreen.com/event/book-nook/2025-11-27/
LOCATION:Atlanta Evergreen Resort\, 4021 Lakeview Dr\, Stone Mountain\, GA\, 30083\, United States
CATEGORIES:Family Friendly,Resort
ATTACH;FMTTYPE=image/jpeg:https://atlantaevergreen.com/wp-content/uploads/2025/01/auto-draft-17.jpg
END:VEVENT
BEGIN:VEVENT
DTSTART;TZID=America/New_York:20251127T110000
DTEND;TZID=America/New_York:20251127T120000
DTSTAMP:20260424T020927
CREATED:20250815T211159Z
LAST-MODIFIED:20260206T192040Z
UID:10007750-1764241200-1764244800@atlantaevergreen.com
SUMMARY:Birdwatching & Binoculars
DESCRIPTION:As part of our Evergreen Experience resort offerings\, we invite you to borrow a set of binoculars\, take a seat along the shoreline benches of Stone Mountain Lake and enjoy a moment with the abundant bird habitat found in the park.
URL:https://atlantaevergreen.com/event/birdwatching-binoculars/2025-11-27/
LOCATION:Atlanta Evergreen Resort\, 4021 Lakeview Dr\, Stone Mountain\, GA\, 30083\, United States
CATEGORIES:Family Friendly,Outdoor,Park
ATTACH;FMTTYPE=image/jpeg:https://atlantaevergreen.com/wp-content/uploads/2025/07/evergreen-experience-17.jpg
END:VEVENT
BEGIN:VEVENT
DTSTART;TZID=America/New_York:20251127T113000
DTEND;TZID=America/New_York:20251127T180000
DTSTAMP:20260424T020927
CREATED:20250929T172230Z
LAST-MODIFIED:20251114T195712Z
UID:10007181-1764243000-1764266400@atlantaevergreen.com
SUMMARY:Thanksgiving Grand Buffet
DESCRIPTION:The Atlanta Evergreen welcomes all guests\, friends and family for an extensive \nThanksgiving Buffet! Discounted pricing available \nfor resort guests\, seniors 65+\, Stone Mountain Golf and Mountain Members. \nBring everyone in your party and join us for a lakeside feast!
URL:https://atlantaevergreen.com/event/thanksgiving-grand-buffet/
LOCATION:Waterside Restaurant\, 4021 Lakeview Dr\, Stone Mountain\, GA\, 30083\, United States
CATEGORIES:F&B,Resort
ATTACH;FMTTYPE=image/jpeg:https://atlantaevergreen.com/wp-content/uploads/2023/11/thanksgiving-grand-buffet.jpg
END:VEVENT
BEGIN:VEVENT
DTSTART;TZID=America/New_York:20251127T140000
DTEND;TZID=America/New_York:20251127T210000
DTSTAMP:20260424T020927
CREATED:20250808T192023Z
LAST-MODIFIED:20251117T211418Z
UID:10006626-1764252000-1764277200@atlantaevergreen.com
SUMMARY:Stone Mountain Christmas
DESCRIPTION:Atlanta’s most heartwarming holiday celebration takes place with dazzling lights\, festive music\, shows and all your favorite holiday characters!  A festive and memorable way to celebrate the season.  There’s even an opportunity to visit the North Pole and Santa’s village.  Click the link for more information to learn about the two Christmas festivals taking place this season!
URL:https://atlantaevergreen.com/event/stone-mountain-christmas-2/2025-11-27/
LOCATION:Stone Mountain Park\, 1000 Robert E Lee Blvd\, Stone Mountain Park\, GA\, 30083\, United States
CATEGORIES:Family Friendly,Outdoor,Park
ATTACH;FMTTYPE=image/jpeg:https://atlantaevergreen.com/wp-content/uploads/2022/10/stone-mountain-christmas.jpg
END:VEVENT
BEGIN:VEVENT
DTSTART;TZID=America/New_York:20251128T100000
DTEND;TZID=America/New_York:20251128T170000
DTSTAMP:20260424T020927
CREATED:20250131T201458Z
LAST-MODIFIED:20251111T220537Z
UID:10006563-1764324000-1764349200@atlantaevergreen.com
SUMMARY:Book Nook
DESCRIPTION:We invite you to exchange a book while you are with us!\nOur reading nook offers a selection of books for guests to trade with ones they have completed.  From kids’ books to adult topics\, we hope you will find something that enhances your visit. \nSelections will vary\, but please participate with the exchange while you are here. \nBook Exchange at Atlanta Evergreen
URL:https://atlantaevergreen.com/event/book-nook/2025-11-28/
LOCATION:Atlanta Evergreen Resort\, 4021 Lakeview Dr\, Stone Mountain\, GA\, 30083\, United States
CATEGORIES:Family Friendly,Resort
ATTACH;FMTTYPE=image/jpeg:https://atlantaevergreen.com/wp-content/uploads/2025/01/auto-draft-17.jpg
END:VEVENT
BEGIN:VEVENT
DTSTART;TZID=America/New_York:20251128T110000
DTEND;TZID=America/New_York:20251128T120000
DTSTAMP:20260424T020927
CREATED:20250815T211159Z
LAST-MODIFIED:20260206T192040Z
UID:10007751-1764327600-1764331200@atlantaevergreen.com
SUMMARY:Birdwatching & Binoculars
DESCRIPTION:As part of our Evergreen Experience resort offerings\, we invite you to borrow a set of binoculars\, take a seat along the shoreline benches of Stone Mountain Lake and enjoy a moment with the abundant bird habitat found in the park.
URL:https://atlantaevergreen.com/event/birdwatching-binoculars/2025-11-28/
LOCATION:Atlanta Evergreen Resort\, 4021 Lakeview Dr\, Stone Mountain\, GA\, 30083\, United States
CATEGORIES:Family Friendly,Outdoor,Park
ATTACH;FMTTYPE=image/jpeg:https://atlantaevergreen.com/wp-content/uploads/2025/07/evergreen-experience-17.jpg
END:VEVENT
BEGIN:VEVENT
DTSTART;TZID=America/New_York:20251128T140000
DTEND;TZID=America/New_York:20251128T210000
DTSTAMP:20260424T020927
CREATED:20250808T191750Z
LAST-MODIFIED:20250808T191750Z
UID:10005405-1764338400-1764363600@atlantaevergreen.com
SUMMARY:Stone Mountain Christmas
DESCRIPTION:Atlanta’s most heartwarming holiday celebration takes place with dazzling lights\, festive music\, shows and all your favorite holiday characters!  A festive and memorable way to celebrate the season.  There’s even an opportunity to visit the North Pole and Santa’s village.  Click the link for more information to learn about the two Christmas festivals taking place this season!
URL:https://atlantaevergreen.com/event/stone-mountain-christmas/2025-11-28/
LOCATION:Stone Mountain Park\, 1000 Robert E Lee Blvd\, Stone Mountain Park\, GA\, 30083\, United States
CATEGORIES:Family Friendly,Outdoor,Park
ATTACH;FMTTYPE=image/jpeg:https://atlantaevergreen.com/wp-content/uploads/2022/10/stone-mountain-christmas.jpg
END:VEVENT
END:VCALENDAR