BEGIN:VCALENDAR
VERSION:2.0
PRODID:-//Atlanta Evergreen Lakeside Resort - ECPv6.15.11//NONSGML v1.0//EN
CALSCALE:GREGORIAN
METHOD:PUBLISH
X-ORIGINAL-URL:https://atlantaevergreen.com
X-WR-CALDESC:Events for Atlanta Evergreen Lakeside Resort
REFRESH-INTERVAL;VALUE=DURATION:PT1H
X-Robots-Tag:noindex
X-PUBLISHED-TTL:PT1H
BEGIN:VTIMEZONE
TZID:America/New_York
BEGIN:DAYLIGHT
TZOFFSETFROM:-0500
TZOFFSETTO:-0400
TZNAME:EDT
DTSTART:20250309T070000
END:DAYLIGHT
BEGIN:STANDARD
TZOFFSETFROM:-0400
TZOFFSETTO:-0500
TZNAME:EST
DTSTART:20251102T060000
END:STANDARD
BEGIN:DAYLIGHT
TZOFFSETFROM:-0500
TZOFFSETTO:-0400
TZNAME:EDT
DTSTART:20260308T070000
END:DAYLIGHT
BEGIN:STANDARD
TZOFFSETFROM:-0400
TZOFFSETTO:-0500
TZNAME:EST
DTSTART:20261101T060000
END:STANDARD
BEGIN:DAYLIGHT
TZOFFSETFROM:-0500
TZOFFSETTO:-0400
TZNAME:EDT
DTSTART:20270314T070000
END:DAYLIGHT
BEGIN:STANDARD
TZOFFSETFROM:-0400
TZOFFSETTO:-0500
TZNAME:EST
DTSTART:20271107T060000
END:STANDARD
END:VTIMEZONE
BEGIN:VEVENT
DTSTART;TZID=America/New_York:20260804T100000
DTEND;TZID=America/New_York:20260804T170000
DTSTAMP:20260425T121620
CREATED:20250131T201458Z
LAST-MODIFIED:20251111T220537Z
UID:10007589-1785837600-1785862800@atlantaevergreen.com
SUMMARY:Book Nook
DESCRIPTION:We invite you to exchange a book while you are with us!\nOur reading nook offers a selection of books for guests to trade with ones they have completed.  From kids’ books to adult topics\, we hope you will find something that enhances your visit. \nSelections will vary\, but please participate with the exchange while you are here. \nBook Exchange at Atlanta Evergreen
URL:https://atlantaevergreen.com/event/book-nook/2026-08-04/
LOCATION:Atlanta Evergreen Resort\, 4021 Lakeview Dr\, Stone Mountain\, GA\, 30083\, United States
CATEGORIES:Family Friendly,Resort
ATTACH;FMTTYPE=image/jpeg:https://atlantaevergreen.com/wp-content/uploads/2025/01/auto-draft-17.jpg
END:VEVENT
BEGIN:VEVENT
DTSTART;TZID=America/New_York:20260805T100000
DTEND;TZID=America/New_York:20260805T170000
DTSTAMP:20260425T121620
CREATED:20250131T201458Z
LAST-MODIFIED:20251111T220537Z
UID:10007590-1785924000-1785949200@atlantaevergreen.com
SUMMARY:Book Nook
DESCRIPTION:We invite you to exchange a book while you are with us!\nOur reading nook offers a selection of books for guests to trade with ones they have completed.  From kids’ books to adult topics\, we hope you will find something that enhances your visit. \nSelections will vary\, but please participate with the exchange while you are here. \nBook Exchange at Atlanta Evergreen
URL:https://atlantaevergreen.com/event/book-nook/2026-08-05/
LOCATION:Atlanta Evergreen Resort\, 4021 Lakeview Dr\, Stone Mountain\, GA\, 30083\, United States
CATEGORIES:Family Friendly,Resort
ATTACH;FMTTYPE=image/jpeg:https://atlantaevergreen.com/wp-content/uploads/2025/01/auto-draft-17.jpg
END:VEVENT
BEGIN:VEVENT
DTSTART;TZID=America/New_York:20260806T100000
DTEND;TZID=America/New_York:20260806T170000
DTSTAMP:20260425T121620
CREATED:20250131T201458Z
LAST-MODIFIED:20251111T220537Z
UID:10007591-1786010400-1786035600@atlantaevergreen.com
SUMMARY:Book Nook
DESCRIPTION:We invite you to exchange a book while you are with us!\nOur reading nook offers a selection of books for guests to trade with ones they have completed.  From kids’ books to adult topics\, we hope you will find something that enhances your visit. \nSelections will vary\, but please participate with the exchange while you are here. \nBook Exchange at Atlanta Evergreen
URL:https://atlantaevergreen.com/event/book-nook/2026-08-06/
LOCATION:Atlanta Evergreen Resort\, 4021 Lakeview Dr\, Stone Mountain\, GA\, 30083\, United States
CATEGORIES:Family Friendly,Resort
ATTACH;FMTTYPE=image/jpeg:https://atlantaevergreen.com/wp-content/uploads/2025/01/auto-draft-17.jpg
END:VEVENT
BEGIN:VEVENT
DTSTART;TZID=America/New_York:20260807T100000
DTEND;TZID=America/New_York:20260807T170000
DTSTAMP:20260425T121620
CREATED:20250131T201458Z
LAST-MODIFIED:20251111T220537Z
UID:10007592-1786096800-1786122000@atlantaevergreen.com
SUMMARY:Book Nook
DESCRIPTION:We invite you to exchange a book while you are with us!\nOur reading nook offers a selection of books for guests to trade with ones they have completed.  From kids’ books to adult topics\, we hope you will find something that enhances your visit. \nSelections will vary\, but please participate with the exchange while you are here. \nBook Exchange at Atlanta Evergreen
URL:https://atlantaevergreen.com/event/book-nook/2026-08-07/
LOCATION:Atlanta Evergreen Resort\, 4021 Lakeview Dr\, Stone Mountain\, GA\, 30083\, United States
CATEGORIES:Family Friendly,Resort
ATTACH;FMTTYPE=image/jpeg:https://atlantaevergreen.com/wp-content/uploads/2025/01/auto-draft-17.jpg
END:VEVENT
BEGIN:VEVENT
DTSTART;TZID=America/New_York:20260808T100000
DTEND;TZID=America/New_York:20260808T170000
DTSTAMP:20260425T121620
CREATED:20250131T201458Z
LAST-MODIFIED:20251111T220537Z
UID:10007593-1786183200-1786208400@atlantaevergreen.com
SUMMARY:Book Nook
DESCRIPTION:We invite you to exchange a book while you are with us!\nOur reading nook offers a selection of books for guests to trade with ones they have completed.  From kids’ books to adult topics\, we hope you will find something that enhances your visit. \nSelections will vary\, but please participate with the exchange while you are here. \nBook Exchange at Atlanta Evergreen
URL:https://atlantaevergreen.com/event/book-nook/2026-08-08/
LOCATION:Atlanta Evergreen Resort\, 4021 Lakeview Dr\, Stone Mountain\, GA\, 30083\, United States
CATEGORIES:Family Friendly,Resort
ATTACH;FMTTYPE=image/jpeg:https://atlantaevergreen.com/wp-content/uploads/2025/01/auto-draft-17.jpg
END:VEVENT
BEGIN:VEVENT
DTSTART;TZID=America/New_York:20260809T100000
DTEND;TZID=America/New_York:20260809T170000
DTSTAMP:20260425T121620
CREATED:20250131T201458Z
LAST-MODIFIED:20251111T220537Z
UID:10007594-1786269600-1786294800@atlantaevergreen.com
SUMMARY:Book Nook
DESCRIPTION:We invite you to exchange a book while you are with us!\nOur reading nook offers a selection of books for guests to trade with ones they have completed.  From kids’ books to adult topics\, we hope you will find something that enhances your visit. \nSelections will vary\, but please participate with the exchange while you are here. \nBook Exchange at Atlanta Evergreen
URL:https://atlantaevergreen.com/event/book-nook/2026-08-09/
LOCATION:Atlanta Evergreen Resort\, 4021 Lakeview Dr\, Stone Mountain\, GA\, 30083\, United States
CATEGORIES:Family Friendly,Resort
ATTACH;FMTTYPE=image/jpeg:https://atlantaevergreen.com/wp-content/uploads/2025/01/auto-draft-17.jpg
END:VEVENT
BEGIN:VEVENT
DTSTART;TZID=America/New_York:20260810T100000
DTEND;TZID=America/New_York:20260810T170000
DTSTAMP:20260425T121620
CREATED:20250131T201458Z
LAST-MODIFIED:20251111T220537Z
UID:10007595-1786356000-1786381200@atlantaevergreen.com
SUMMARY:Book Nook
DESCRIPTION:We invite you to exchange a book while you are with us!\nOur reading nook offers a selection of books for guests to trade with ones they have completed.  From kids’ books to adult topics\, we hope you will find something that enhances your visit. \nSelections will vary\, but please participate with the exchange while you are here. \nBook Exchange at Atlanta Evergreen
URL:https://atlantaevergreen.com/event/book-nook/2026-08-10/
LOCATION:Atlanta Evergreen Resort\, 4021 Lakeview Dr\, Stone Mountain\, GA\, 30083\, United States
CATEGORIES:Family Friendly,Resort
ATTACH;FMTTYPE=image/jpeg:https://atlantaevergreen.com/wp-content/uploads/2025/01/auto-draft-17.jpg
END:VEVENT
BEGIN:VEVENT
DTSTART;TZID=America/New_York:20260811T100000
DTEND;TZID=America/New_York:20260811T170000
DTSTAMP:20260425T121620
CREATED:20250131T201458Z
LAST-MODIFIED:20251111T220537Z
UID:10007596-1786442400-1786467600@atlantaevergreen.com
SUMMARY:Book Nook
DESCRIPTION:We invite you to exchange a book while you are with us!\nOur reading nook offers a selection of books for guests to trade with ones they have completed.  From kids’ books to adult topics\, we hope you will find something that enhances your visit. \nSelections will vary\, but please participate with the exchange while you are here. \nBook Exchange at Atlanta Evergreen
URL:https://atlantaevergreen.com/event/book-nook/2026-08-11/
LOCATION:Atlanta Evergreen Resort\, 4021 Lakeview Dr\, Stone Mountain\, GA\, 30083\, United States
CATEGORIES:Family Friendly,Resort
ATTACH;FMTTYPE=image/jpeg:https://atlantaevergreen.com/wp-content/uploads/2025/01/auto-draft-17.jpg
END:VEVENT
BEGIN:VEVENT
DTSTART;TZID=America/New_York:20260812T100000
DTEND;TZID=America/New_York:20260812T170000
DTSTAMP:20260425T121620
CREATED:20250131T201458Z
LAST-MODIFIED:20251111T220537Z
UID:10007597-1786528800-1786554000@atlantaevergreen.com
SUMMARY:Book Nook
DESCRIPTION:We invite you to exchange a book while you are with us!\nOur reading nook offers a selection of books for guests to trade with ones they have completed.  From kids’ books to adult topics\, we hope you will find something that enhances your visit. \nSelections will vary\, but please participate with the exchange while you are here. \nBook Exchange at Atlanta Evergreen
URL:https://atlantaevergreen.com/event/book-nook/2026-08-12/
LOCATION:Atlanta Evergreen Resort\, 4021 Lakeview Dr\, Stone Mountain\, GA\, 30083\, United States
CATEGORIES:Family Friendly,Resort
ATTACH;FMTTYPE=image/jpeg:https://atlantaevergreen.com/wp-content/uploads/2025/01/auto-draft-17.jpg
END:VEVENT
BEGIN:VEVENT
DTSTART;TZID=America/New_York:20260813T100000
DTEND;TZID=America/New_York:20260813T170000
DTSTAMP:20260425T121620
CREATED:20250131T201458Z
LAST-MODIFIED:20251111T220537Z
UID:10007598-1786615200-1786640400@atlantaevergreen.com
SUMMARY:Book Nook
DESCRIPTION:We invite you to exchange a book while you are with us!\nOur reading nook offers a selection of books for guests to trade with ones they have completed.  From kids’ books to adult topics\, we hope you will find something that enhances your visit. \nSelections will vary\, but please participate with the exchange while you are here. \nBook Exchange at Atlanta Evergreen
URL:https://atlantaevergreen.com/event/book-nook/2026-08-13/
LOCATION:Atlanta Evergreen Resort\, 4021 Lakeview Dr\, Stone Mountain\, GA\, 30083\, United States
CATEGORIES:Family Friendly,Resort
ATTACH;FMTTYPE=image/jpeg:https://atlantaevergreen.com/wp-content/uploads/2025/01/auto-draft-17.jpg
END:VEVENT
BEGIN:VEVENT
DTSTART;TZID=America/New_York:20260814T100000
DTEND;TZID=America/New_York:20260814T170000
DTSTAMP:20260425T121620
CREATED:20250131T201458Z
LAST-MODIFIED:20251111T220537Z
UID:10007599-1786701600-1786726800@atlantaevergreen.com
SUMMARY:Book Nook
DESCRIPTION:We invite you to exchange a book while you are with us!\nOur reading nook offers a selection of books for guests to trade with ones they have completed.  From kids’ books to adult topics\, we hope you will find something that enhances your visit. \nSelections will vary\, but please participate with the exchange while you are here. \nBook Exchange at Atlanta Evergreen
URL:https://atlantaevergreen.com/event/book-nook/2026-08-14/
LOCATION:Atlanta Evergreen Resort\, 4021 Lakeview Dr\, Stone Mountain\, GA\, 30083\, United States
CATEGORIES:Family Friendly,Resort
ATTACH;FMTTYPE=image/jpeg:https://atlantaevergreen.com/wp-content/uploads/2025/01/auto-draft-17.jpg
END:VEVENT
BEGIN:VEVENT
DTSTART;TZID=America/New_York:20260815T100000
DTEND;TZID=America/New_York:20260815T170000
DTSTAMP:20260425T121620
CREATED:20250131T201458Z
LAST-MODIFIED:20251111T220537Z
UID:10007600-1786788000-1786813200@atlantaevergreen.com
SUMMARY:Book Nook
DESCRIPTION:We invite you to exchange a book while you are with us!\nOur reading nook offers a selection of books for guests to trade with ones they have completed.  From kids’ books to adult topics\, we hope you will find something that enhances your visit. \nSelections will vary\, but please participate with the exchange while you are here. \nBook Exchange at Atlanta Evergreen
URL:https://atlantaevergreen.com/event/book-nook/2026-08-15/
LOCATION:Atlanta Evergreen Resort\, 4021 Lakeview Dr\, Stone Mountain\, GA\, 30083\, United States
CATEGORIES:Family Friendly,Resort
ATTACH;FMTTYPE=image/jpeg:https://atlantaevergreen.com/wp-content/uploads/2025/01/auto-draft-17.jpg
END:VEVENT
BEGIN:VEVENT
DTSTART;TZID=America/New_York:20260816T100000
DTEND;TZID=America/New_York:20260816T170000
DTSTAMP:20260425T121620
CREATED:20250131T201458Z
LAST-MODIFIED:20251111T220537Z
UID:10007601-1786874400-1786899600@atlantaevergreen.com
SUMMARY:Book Nook
DESCRIPTION:We invite you to exchange a book while you are with us!\nOur reading nook offers a selection of books for guests to trade with ones they have completed.  From kids’ books to adult topics\, we hope you will find something that enhances your visit. \nSelections will vary\, but please participate with the exchange while you are here. \nBook Exchange at Atlanta Evergreen
URL:https://atlantaevergreen.com/event/book-nook/2026-08-16/
LOCATION:Atlanta Evergreen Resort\, 4021 Lakeview Dr\, Stone Mountain\, GA\, 30083\, United States
CATEGORIES:Family Friendly,Resort
ATTACH;FMTTYPE=image/jpeg:https://atlantaevergreen.com/wp-content/uploads/2025/01/auto-draft-17.jpg
END:VEVENT
BEGIN:VEVENT
DTSTART;TZID=America/New_York:20260817T100000
DTEND;TZID=America/New_York:20260817T170000
DTSTAMP:20260425T121620
CREATED:20250131T201458Z
LAST-MODIFIED:20251111T220537Z
UID:10007602-1786960800-1786986000@atlantaevergreen.com
SUMMARY:Book Nook
DESCRIPTION:We invite you to exchange a book while you are with us!\nOur reading nook offers a selection of books for guests to trade with ones they have completed.  From kids’ books to adult topics\, we hope you will find something that enhances your visit. \nSelections will vary\, but please participate with the exchange while you are here. \nBook Exchange at Atlanta Evergreen
URL:https://atlantaevergreen.com/event/book-nook/2026-08-17/
LOCATION:Atlanta Evergreen Resort\, 4021 Lakeview Dr\, Stone Mountain\, GA\, 30083\, United States
CATEGORIES:Family Friendly,Resort
ATTACH;FMTTYPE=image/jpeg:https://atlantaevergreen.com/wp-content/uploads/2025/01/auto-draft-17.jpg
END:VEVENT
BEGIN:VEVENT
DTSTART;TZID=America/New_York:20260818T100000
DTEND;TZID=America/New_York:20260818T170000
DTSTAMP:20260425T121620
CREATED:20250131T201458Z
LAST-MODIFIED:20251111T220537Z
UID:10007603-1787047200-1787072400@atlantaevergreen.com
SUMMARY:Book Nook
DESCRIPTION:We invite you to exchange a book while you are with us!\nOur reading nook offers a selection of books for guests to trade with ones they have completed.  From kids’ books to adult topics\, we hope you will find something that enhances your visit. \nSelections will vary\, but please participate with the exchange while you are here. \nBook Exchange at Atlanta Evergreen
URL:https://atlantaevergreen.com/event/book-nook/2026-08-18/
LOCATION:Atlanta Evergreen Resort\, 4021 Lakeview Dr\, Stone Mountain\, GA\, 30083\, United States
CATEGORIES:Family Friendly,Resort
ATTACH;FMTTYPE=image/jpeg:https://atlantaevergreen.com/wp-content/uploads/2025/01/auto-draft-17.jpg
END:VEVENT
BEGIN:VEVENT
DTSTART;TZID=America/New_York:20260819T100000
DTEND;TZID=America/New_York:20260819T170000
DTSTAMP:20260425T121620
CREATED:20250131T201458Z
LAST-MODIFIED:20251111T220537Z
UID:10007604-1787133600-1787158800@atlantaevergreen.com
SUMMARY:Book Nook
DESCRIPTION:We invite you to exchange a book while you are with us!\nOur reading nook offers a selection of books for guests to trade with ones they have completed.  From kids’ books to adult topics\, we hope you will find something that enhances your visit. \nSelections will vary\, but please participate with the exchange while you are here. \nBook Exchange at Atlanta Evergreen
URL:https://atlantaevergreen.com/event/book-nook/2026-08-19/
LOCATION:Atlanta Evergreen Resort\, 4021 Lakeview Dr\, Stone Mountain\, GA\, 30083\, United States
CATEGORIES:Family Friendly,Resort
ATTACH;FMTTYPE=image/jpeg:https://atlantaevergreen.com/wp-content/uploads/2025/01/auto-draft-17.jpg
END:VEVENT
BEGIN:VEVENT
DTSTART;TZID=America/New_York:20260820T100000
DTEND;TZID=America/New_York:20260820T170000
DTSTAMP:20260425T121620
CREATED:20250131T201458Z
LAST-MODIFIED:20251111T220537Z
UID:10007605-1787220000-1787245200@atlantaevergreen.com
SUMMARY:Book Nook
DESCRIPTION:We invite you to exchange a book while you are with us!\nOur reading nook offers a selection of books for guests to trade with ones they have completed.  From kids’ books to adult topics\, we hope you will find something that enhances your visit. \nSelections will vary\, but please participate with the exchange while you are here. \nBook Exchange at Atlanta Evergreen
URL:https://atlantaevergreen.com/event/book-nook/2026-08-20/
LOCATION:Atlanta Evergreen Resort\, 4021 Lakeview Dr\, Stone Mountain\, GA\, 30083\, United States
CATEGORIES:Family Friendly,Resort
ATTACH;FMTTYPE=image/jpeg:https://atlantaevergreen.com/wp-content/uploads/2025/01/auto-draft-17.jpg
END:VEVENT
BEGIN:VEVENT
DTSTART;TZID=America/New_York:20260821T100000
DTEND;TZID=America/New_York:20260821T170000
DTSTAMP:20260425T121620
CREATED:20250131T201458Z
LAST-MODIFIED:20251111T220537Z
UID:10007606-1787306400-1787331600@atlantaevergreen.com
SUMMARY:Book Nook
DESCRIPTION:We invite you to exchange a book while you are with us!\nOur reading nook offers a selection of books for guests to trade with ones they have completed.  From kids’ books to adult topics\, we hope you will find something that enhances your visit. \nSelections will vary\, but please participate with the exchange while you are here. \nBook Exchange at Atlanta Evergreen
URL:https://atlantaevergreen.com/event/book-nook/2026-08-21/
LOCATION:Atlanta Evergreen Resort\, 4021 Lakeview Dr\, Stone Mountain\, GA\, 30083\, United States
CATEGORIES:Family Friendly,Resort
ATTACH;FMTTYPE=image/jpeg:https://atlantaevergreen.com/wp-content/uploads/2025/01/auto-draft-17.jpg
END:VEVENT
BEGIN:VEVENT
DTSTART;TZID=America/New_York:20260822T100000
DTEND;TZID=America/New_York:20260822T170000
DTSTAMP:20260425T121620
CREATED:20250131T201458Z
LAST-MODIFIED:20251111T220537Z
UID:10007607-1787392800-1787418000@atlantaevergreen.com
SUMMARY:Book Nook
DESCRIPTION:We invite you to exchange a book while you are with us!\nOur reading nook offers a selection of books for guests to trade with ones they have completed.  From kids’ books to adult topics\, we hope you will find something that enhances your visit. \nSelections will vary\, but please participate with the exchange while you are here. \nBook Exchange at Atlanta Evergreen
URL:https://atlantaevergreen.com/event/book-nook/2026-08-22/
LOCATION:Atlanta Evergreen Resort\, 4021 Lakeview Dr\, Stone Mountain\, GA\, 30083\, United States
CATEGORIES:Family Friendly,Resort
ATTACH;FMTTYPE=image/jpeg:https://atlantaevergreen.com/wp-content/uploads/2025/01/auto-draft-17.jpg
END:VEVENT
BEGIN:VEVENT
DTSTART;TZID=America/New_York:20260823T100000
DTEND;TZID=America/New_York:20260823T170000
DTSTAMP:20260425T121620
CREATED:20250131T201458Z
LAST-MODIFIED:20251111T220537Z
UID:10007608-1787479200-1787504400@atlantaevergreen.com
SUMMARY:Book Nook
DESCRIPTION:We invite you to exchange a book while you are with us!\nOur reading nook offers a selection of books for guests to trade with ones they have completed.  From kids’ books to adult topics\, we hope you will find something that enhances your visit. \nSelections will vary\, but please participate with the exchange while you are here. \nBook Exchange at Atlanta Evergreen
URL:https://atlantaevergreen.com/event/book-nook/2026-08-23/
LOCATION:Atlanta Evergreen Resort\, 4021 Lakeview Dr\, Stone Mountain\, GA\, 30083\, United States
CATEGORIES:Family Friendly,Resort
ATTACH;FMTTYPE=image/jpeg:https://atlantaevergreen.com/wp-content/uploads/2025/01/auto-draft-17.jpg
END:VEVENT
BEGIN:VEVENT
DTSTART;TZID=America/New_York:20260824T100000
DTEND;TZID=America/New_York:20260824T170000
DTSTAMP:20260425T121620
CREATED:20250131T201458Z
LAST-MODIFIED:20251111T220537Z
UID:10007609-1787565600-1787590800@atlantaevergreen.com
SUMMARY:Book Nook
DESCRIPTION:We invite you to exchange a book while you are with us!\nOur reading nook offers a selection of books for guests to trade with ones they have completed.  From kids’ books to adult topics\, we hope you will find something that enhances your visit. \nSelections will vary\, but please participate with the exchange while you are here. \nBook Exchange at Atlanta Evergreen
URL:https://atlantaevergreen.com/event/book-nook/2026-08-24/
LOCATION:Atlanta Evergreen Resort\, 4021 Lakeview Dr\, Stone Mountain\, GA\, 30083\, United States
CATEGORIES:Family Friendly,Resort
ATTACH;FMTTYPE=image/jpeg:https://atlantaevergreen.com/wp-content/uploads/2025/01/auto-draft-17.jpg
END:VEVENT
BEGIN:VEVENT
DTSTART;TZID=America/New_York:20260825T100000
DTEND;TZID=America/New_York:20260825T170000
DTSTAMP:20260425T121620
CREATED:20250131T201458Z
LAST-MODIFIED:20251111T220537Z
UID:10007610-1787652000-1787677200@atlantaevergreen.com
SUMMARY:Book Nook
DESCRIPTION:We invite you to exchange a book while you are with us!\nOur reading nook offers a selection of books for guests to trade with ones they have completed.  From kids’ books to adult topics\, we hope you will find something that enhances your visit. \nSelections will vary\, but please participate with the exchange while you are here. \nBook Exchange at Atlanta Evergreen
URL:https://atlantaevergreen.com/event/book-nook/2026-08-25/
LOCATION:Atlanta Evergreen Resort\, 4021 Lakeview Dr\, Stone Mountain\, GA\, 30083\, United States
CATEGORIES:Family Friendly,Resort
ATTACH;FMTTYPE=image/jpeg:https://atlantaevergreen.com/wp-content/uploads/2025/01/auto-draft-17.jpg
END:VEVENT
BEGIN:VEVENT
DTSTART;TZID=America/New_York:20260826T100000
DTEND;TZID=America/New_York:20260826T170000
DTSTAMP:20260425T121620
CREATED:20250131T201458Z
LAST-MODIFIED:20251111T220537Z
UID:10007611-1787738400-1787763600@atlantaevergreen.com
SUMMARY:Book Nook
DESCRIPTION:We invite you to exchange a book while you are with us!\nOur reading nook offers a selection of books for guests to trade with ones they have completed.  From kids’ books to adult topics\, we hope you will find something that enhances your visit. \nSelections will vary\, but please participate with the exchange while you are here. \nBook Exchange at Atlanta Evergreen
URL:https://atlantaevergreen.com/event/book-nook/2026-08-26/
LOCATION:Atlanta Evergreen Resort\, 4021 Lakeview Dr\, Stone Mountain\, GA\, 30083\, United States
CATEGORIES:Family Friendly,Resort
ATTACH;FMTTYPE=image/jpeg:https://atlantaevergreen.com/wp-content/uploads/2025/01/auto-draft-17.jpg
END:VEVENT
BEGIN:VEVENT
DTSTART;TZID=America/New_York:20260827T100000
DTEND;TZID=America/New_York:20260827T170000
DTSTAMP:20260425T121620
CREATED:20250131T201458Z
LAST-MODIFIED:20251111T220537Z
UID:10007612-1787824800-1787850000@atlantaevergreen.com
SUMMARY:Book Nook
DESCRIPTION:We invite you to exchange a book while you are with us!\nOur reading nook offers a selection of books for guests to trade with ones they have completed.  From kids’ books to adult topics\, we hope you will find something that enhances your visit. \nSelections will vary\, but please participate with the exchange while you are here. \nBook Exchange at Atlanta Evergreen
URL:https://atlantaevergreen.com/event/book-nook/2026-08-27/
LOCATION:Atlanta Evergreen Resort\, 4021 Lakeview Dr\, Stone Mountain\, GA\, 30083\, United States
CATEGORIES:Family Friendly,Resort
ATTACH;FMTTYPE=image/jpeg:https://atlantaevergreen.com/wp-content/uploads/2025/01/auto-draft-17.jpg
END:VEVENT
BEGIN:VEVENT
DTSTART;TZID=America/New_York:20260828T100000
DTEND;TZID=America/New_York:20260828T170000
DTSTAMP:20260425T121620
CREATED:20250131T201458Z
LAST-MODIFIED:20251111T220537Z
UID:10007613-1787911200-1787936400@atlantaevergreen.com
SUMMARY:Book Nook
DESCRIPTION:We invite you to exchange a book while you are with us!\nOur reading nook offers a selection of books for guests to trade with ones they have completed.  From kids’ books to adult topics\, we hope you will find something that enhances your visit. \nSelections will vary\, but please participate with the exchange while you are here. \nBook Exchange at Atlanta Evergreen
URL:https://atlantaevergreen.com/event/book-nook/2026-08-28/
LOCATION:Atlanta Evergreen Resort\, 4021 Lakeview Dr\, Stone Mountain\, GA\, 30083\, United States
CATEGORIES:Family Friendly,Resort
ATTACH;FMTTYPE=image/jpeg:https://atlantaevergreen.com/wp-content/uploads/2025/01/auto-draft-17.jpg
END:VEVENT
BEGIN:VEVENT
DTSTART;TZID=America/New_York:20260829T100000
DTEND;TZID=America/New_York:20260829T170000
DTSTAMP:20260425T121620
CREATED:20250131T201458Z
LAST-MODIFIED:20251111T220537Z
UID:10007614-1787997600-1788022800@atlantaevergreen.com
SUMMARY:Book Nook
DESCRIPTION:We invite you to exchange a book while you are with us!\nOur reading nook offers a selection of books for guests to trade with ones they have completed.  From kids’ books to adult topics\, we hope you will find something that enhances your visit. \nSelections will vary\, but please participate with the exchange while you are here. \nBook Exchange at Atlanta Evergreen
URL:https://atlantaevergreen.com/event/book-nook/2026-08-29/
LOCATION:Atlanta Evergreen Resort\, 4021 Lakeview Dr\, Stone Mountain\, GA\, 30083\, United States
CATEGORIES:Family Friendly,Resort
ATTACH;FMTTYPE=image/jpeg:https://atlantaevergreen.com/wp-content/uploads/2025/01/auto-draft-17.jpg
END:VEVENT
BEGIN:VEVENT
DTSTART;TZID=America/New_York:20260830T100000
DTEND;TZID=America/New_York:20260830T170000
DTSTAMP:20260425T121620
CREATED:20250131T201458Z
LAST-MODIFIED:20251111T220537Z
UID:10007615-1788084000-1788109200@atlantaevergreen.com
SUMMARY:Book Nook
DESCRIPTION:We invite you to exchange a book while you are with us!\nOur reading nook offers a selection of books for guests to trade with ones they have completed.  From kids’ books to adult topics\, we hope you will find something that enhances your visit. \nSelections will vary\, but please participate with the exchange while you are here. \nBook Exchange at Atlanta Evergreen
URL:https://atlantaevergreen.com/event/book-nook/2026-08-30/
LOCATION:Atlanta Evergreen Resort\, 4021 Lakeview Dr\, Stone Mountain\, GA\, 30083\, United States
CATEGORIES:Family Friendly,Resort
ATTACH;FMTTYPE=image/jpeg:https://atlantaevergreen.com/wp-content/uploads/2025/01/auto-draft-17.jpg
END:VEVENT
BEGIN:VEVENT
DTSTART;TZID=America/New_York:20260831T100000
DTEND;TZID=America/New_York:20260831T170000
DTSTAMP:20260425T121620
CREATED:20250131T201458Z
LAST-MODIFIED:20251111T220537Z
UID:10007616-1788170400-1788195600@atlantaevergreen.com
SUMMARY:Book Nook
DESCRIPTION:We invite you to exchange a book while you are with us!\nOur reading nook offers a selection of books for guests to trade with ones they have completed.  From kids’ books to adult topics\, we hope you will find something that enhances your visit. \nSelections will vary\, but please participate with the exchange while you are here. \nBook Exchange at Atlanta Evergreen
URL:https://atlantaevergreen.com/event/book-nook/2026-08-31/
LOCATION:Atlanta Evergreen Resort\, 4021 Lakeview Dr\, Stone Mountain\, GA\, 30083\, United States
CATEGORIES:Family Friendly,Resort
ATTACH;FMTTYPE=image/jpeg:https://atlantaevergreen.com/wp-content/uploads/2025/01/auto-draft-17.jpg
END:VEVENT
BEGIN:VEVENT
DTSTART;TZID=America/New_York:20260901T100000
DTEND;TZID=America/New_York:20260901T170000
DTSTAMP:20260425T121620
CREATED:20250131T201458Z
LAST-MODIFIED:20251111T220537Z
UID:10007617-1788256800-1788282000@atlantaevergreen.com
SUMMARY:Book Nook
DESCRIPTION:We invite you to exchange a book while you are with us!\nOur reading nook offers a selection of books for guests to trade with ones they have completed.  From kids’ books to adult topics\, we hope you will find something that enhances your visit. \nSelections will vary\, but please participate with the exchange while you are here. \nBook Exchange at Atlanta Evergreen
URL:https://atlantaevergreen.com/event/book-nook/2026-09-01/
LOCATION:Atlanta Evergreen Resort\, 4021 Lakeview Dr\, Stone Mountain\, GA\, 30083\, United States
CATEGORIES:Family Friendly,Resort
ATTACH;FMTTYPE=image/jpeg:https://atlantaevergreen.com/wp-content/uploads/2025/01/auto-draft-17.jpg
END:VEVENT
BEGIN:VEVENT
DTSTART;TZID=America/New_York:20260902T100000
DTEND;TZID=America/New_York:20260902T170000
DTSTAMP:20260425T121620
CREATED:20250131T201458Z
LAST-MODIFIED:20251111T220537Z
UID:10007618-1788343200-1788368400@atlantaevergreen.com
SUMMARY:Book Nook
DESCRIPTION:We invite you to exchange a book while you are with us!\nOur reading nook offers a selection of books for guests to trade with ones they have completed.  From kids’ books to adult topics\, we hope you will find something that enhances your visit. \nSelections will vary\, but please participate with the exchange while you are here. \nBook Exchange at Atlanta Evergreen
URL:https://atlantaevergreen.com/event/book-nook/2026-09-02/
LOCATION:Atlanta Evergreen Resort\, 4021 Lakeview Dr\, Stone Mountain\, GA\, 30083\, United States
CATEGORIES:Family Friendly,Resort
ATTACH;FMTTYPE=image/jpeg:https://atlantaevergreen.com/wp-content/uploads/2025/01/auto-draft-17.jpg
END:VEVENT
END:VCALENDAR