BEGIN:VCALENDAR
VERSION:2.0
PRODID:-//Atlanta Evergreen Lakeside Resort - ECPv6.15.11//NONSGML v1.0//EN
CALSCALE:GREGORIAN
METHOD:PUBLISH
X-WR-CALNAME:Atlanta Evergreen Lakeside Resort
X-ORIGINAL-URL:https://atlantaevergreen.com
X-WR-CALDESC:Events for Atlanta Evergreen Lakeside Resort
REFRESH-INTERVAL;VALUE=DURATION:PT1H
X-Robots-Tag:noindex
X-PUBLISHED-TTL:PT1H
BEGIN:VTIMEZONE
TZID:America/New_York
BEGIN:DAYLIGHT
TZOFFSETFROM:-0500
TZOFFSETTO:-0400
TZNAME:EDT
DTSTART:20240310T070000
END:DAYLIGHT
BEGIN:STANDARD
TZOFFSETFROM:-0400
TZOFFSETTO:-0500
TZNAME:EST
DTSTART:20241103T060000
END:STANDARD
BEGIN:DAYLIGHT
TZOFFSETFROM:-0500
TZOFFSETTO:-0400
TZNAME:EDT
DTSTART:20250309T070000
END:DAYLIGHT
BEGIN:STANDARD
TZOFFSETFROM:-0400
TZOFFSETTO:-0500
TZNAME:EST
DTSTART:20251102T060000
END:STANDARD
BEGIN:DAYLIGHT
TZOFFSETFROM:-0500
TZOFFSETTO:-0400
TZNAME:EDT
DTSTART:20260308T070000
END:DAYLIGHT
BEGIN:STANDARD
TZOFFSETFROM:-0400
TZOFFSETTO:-0500
TZNAME:EST
DTSTART:20261101T060000
END:STANDARD
END:VTIMEZONE
BEGIN:VEVENT
DTSTART;TZID=America/New_York:20251101T100000
DTEND;TZID=America/New_York:20251101T150000
DTSTAMP:20260424T113901
CREATED:20250530T203029Z
LAST-MODIFIED:20250530T203029Z
UID:10005394-1761991200-1762009200@atlantaevergreen.com
SUMMARY:Native American Festival
DESCRIPTION:Bring your family to experience the energy and color of the largest Native American gathering in Georgia. Located in Historic Square\, the four-day Native American Festival and Pow-Wow was named a Top 20 Event by the Southeast Tourism Society. \n 
URL:https://atlantaevergreen.com/event/native-american-festival/2025-11-01/
LOCATION:GA
CATEGORIES:Culinary,Family Friendly,Outdoor,Park
ATTACH;FMTTYPE=image/jpeg:https://atlantaevergreen.com/wp-content/uploads/2025/05/auto-draft-37.jpg
END:VEVENT
BEGIN:VEVENT
DTSTART;TZID=America/New_York:20251101T100000
DTEND;TZID=America/New_York:20251101T170000
DTSTAMP:20260424T113901
CREATED:20250131T201458Z
LAST-MODIFIED:20251111T220537Z
UID:10006536-1761991200-1762016400@atlantaevergreen.com
SUMMARY:Book Nook
DESCRIPTION:We invite you to exchange a book while you are with us!\nOur reading nook offers a selection of books for guests to trade with ones they have completed.  From kids’ books to adult topics\, we hope you will find something that enhances your visit. \nSelections will vary\, but please participate with the exchange while you are here. \nBook Exchange at Atlanta Evergreen
URL:https://atlantaevergreen.com/event/book-nook/2025-11-01/
LOCATION:Atlanta Evergreen Resort\, 4021 Lakeview Dr\, Stone Mountain\, GA\, 30083\, United States
CATEGORIES:Family Friendly,Resort
ATTACH;FMTTYPE=image/jpeg:https://atlantaevergreen.com/wp-content/uploads/2025/01/auto-draft-17.jpg
END:VEVENT
BEGIN:VEVENT
DTSTART;TZID=America/New_York:20251101T110000
DTEND;TZID=America/New_York:20251101T113000
DTSTAMP:20260424T113901
CREATED:20251006T182730Z
LAST-MODIFIED:20251006T183055Z
UID:10007313-1761994800-1761996600@atlantaevergreen.com
SUMMARY:Complimentary Stone Mountain Lake Tour
DESCRIPTION:Enjoy a guided cruise on Stone Mountain Lake during your next stay at Atlanta Evergreen. This complimentary cruise provides a tour with narration. \n  \nCruises depart promptly at the time listed and are on a first come basis. There is limited capacity for the cruise. All ages are welcomed\, sorry no pets allowed. Cruises are weather permitted and operate on a seasonal schedule. Times listed are estimated schedules\, but due to unforeseen circumstances\, may be cancelled without notice or compensation. Please inquire at the resort Front Desk for confirmed times/schedules.
URL:https://atlantaevergreen.com/event/complimentary-stone-mountain-lake-tour-3-2/2025-11-01/
LOCATION:Atlanta Evergreen Resort\, 4021 Lakeview Dr\, Stone Mountain\, GA\, 30083\, United States
CATEGORIES:Outdoor,Park,Resort
ATTACH;FMTTYPE=image/jpeg:https://atlantaevergreen.com/wp-content/uploads/2025/03/auto-draft-25.jpg
END:VEVENT
BEGIN:VEVENT
DTSTART;TZID=America/New_York:20251101T140000
DTEND;TZID=America/New_York:20251101T210000
DTSTAMP:20260424T113901
CREATED:20250530T195710Z
LAST-MODIFIED:20250530T200413Z
UID:10005388-1762005600-1762030800@atlantaevergreen.com
SUMMARY:Pumpkin Festival at Stone Mountain Park
DESCRIPTION:Stone Mountain Park presents one of the most favorite times of the year!  Play by Day and Glow by Night at this family-friendly event celebrating the festivities of the fall with storybook characters\, special entertainment and nightly drone show.
URL:https://atlantaevergreen.com/event/pumpkin-festival-at-stone-mountain-park/2025-11-01/
LOCATION:GA
CATEGORIES:Family Friendly,Outdoor,Park,Resort
ATTACH;FMTTYPE=image/png:https://atlantaevergreen.com/wp-content/uploads/2022/09/atlanta-evergreen-stay-play-pumpkin-festival-2.png
END:VEVENT
END:VCALENDAR