BEGIN:VCALENDAR
VERSION:2.0
PRODID:-//Atlanta Evergreen Lakeside Resort - ECPv6.15.11//NONSGML v1.0//EN
CALSCALE:GREGORIAN
METHOD:PUBLISH
X-ORIGINAL-URL:https://atlantaevergreen.com
X-WR-CALDESC:Events for Atlanta Evergreen Lakeside Resort
REFRESH-INTERVAL;VALUE=DURATION:PT1H
X-Robots-Tag:noindex
X-PUBLISHED-TTL:PT1H
BEGIN:VTIMEZONE
TZID:America/New_York
BEGIN:DAYLIGHT
TZOFFSETFROM:-0500
TZOFFSETTO:-0400
TZNAME:EDT
DTSTART:20240310T070000
END:DAYLIGHT
BEGIN:STANDARD
TZOFFSETFROM:-0400
TZOFFSETTO:-0500
TZNAME:EST
DTSTART:20241103T060000
END:STANDARD
BEGIN:DAYLIGHT
TZOFFSETFROM:-0500
TZOFFSETTO:-0400
TZNAME:EDT
DTSTART:20250309T070000
END:DAYLIGHT
BEGIN:STANDARD
TZOFFSETFROM:-0400
TZOFFSETTO:-0500
TZNAME:EST
DTSTART:20251102T060000
END:STANDARD
BEGIN:DAYLIGHT
TZOFFSETFROM:-0500
TZOFFSETTO:-0400
TZNAME:EDT
DTSTART:20260308T070000
END:DAYLIGHT
BEGIN:STANDARD
TZOFFSETFROM:-0400
TZOFFSETTO:-0500
TZNAME:EST
DTSTART:20261101T060000
END:STANDARD
END:VTIMEZONE
BEGIN:VEVENT
DTSTART;TZID=America/New_York:20250829T080000
DTEND;TZID=America/New_York:20250829T090000
DTSTAMP:20260422T070000
CREATED:20250815T211916Z
LAST-MODIFIED:20250915T155625Z
UID:10006756-1756454400-1756458000@atlantaevergreen.com
SUMMARY:Coffee & Conversation
DESCRIPTION:Start the day with a warm cup of coffee and friendly conversation at Mountain Brew!  We’ll provide the coffee and fun discussion topics to start your day as you socialize with other guests and watch the sunrise!
URL:https://atlantaevergreen.com/event/coffee-conversation-2/2025-08-29/
LOCATION:GA
CATEGORIES:Culinary,Resort
ATTACH;FMTTYPE=image/jpeg:https://atlantaevergreen.com/wp-content/uploads/2025/08/coffee-conversation-3.jpg
END:VEVENT
BEGIN:VEVENT
DTSTART;TZID=America/New_York:20250829T090000
DTEND;TZID=America/New_York:20250829T103000
DTSTAMP:20260422T070000
CREATED:20250815T202745Z
LAST-MODIFIED:20251114T200749Z
UID:10007231-1756458000-1756463400@atlantaevergreen.com
SUMMARY:Morning Hike & Snack
DESCRIPTION:As part of our Evergreen Experiences this hike is a free offering with your resort experience (limited space available). Outdoor adventure offers a special memory of your time in the park.  Check with our Front Desk team on the availability of this activity during your visit.  Our guide will take you on a trail in the park as you learn about the area\, explore in nature and enjoy a small snack along the way. Some treks may take a shuttle to an alternate starting point in the park.  Please plan to be away from the hotel for one to two hours during this adventure. \n**Please bring stable shoes and know that terrain is a natural\, often uneven path through the woods.  Guests who are not comfortable with uneven surfaces\, have balance issues and/or are unable to undertake a moderate activity level on a hike are not recommended.  Signed waivers are required.**
URL:https://atlantaevergreen.com/event/morning-hike-snack/2025-08-29/
LOCATION:Atlanta Evergreen Main Lobby\, 4021 Lakeview Drive\, Stone Mountain\, GA\, 30083\, United States
CATEGORIES:Outdoor,Resort
ATTACH;FMTTYPE=image/jpeg:https://atlantaevergreen.com/wp-content/uploads/2024/06/southeast-residents-rate-6.jpeg
END:VEVENT
BEGIN:VEVENT
DTSTART;TZID=America/New_York:20250829T100000
DTEND;TZID=America/New_York:20250829T170000
DTSTAMP:20260422T070000
CREATED:20250131T201458Z
LAST-MODIFIED:20251111T220537Z
UID:10006472-1756461600-1756486800@atlantaevergreen.com
SUMMARY:Book Nook
DESCRIPTION:We invite you to exchange a book while you are with us!\nOur reading nook offers a selection of books for guests to trade with ones they have completed.  From kids’ books to adult topics\, we hope you will find something that enhances your visit. \nSelections will vary\, but please participate with the exchange while you are here. \nBook Exchange at Atlanta Evergreen
URL:https://atlantaevergreen.com/event/book-nook/2025-08-29/
LOCATION:Atlanta Evergreen Resort\, 4021 Lakeview Dr\, Stone Mountain\, GA\, 30083\, United States
CATEGORIES:Family Friendly,Resort
ATTACH;FMTTYPE=image/jpeg:https://atlantaevergreen.com/wp-content/uploads/2025/01/auto-draft-17.jpg
END:VEVENT
BEGIN:VEVENT
DTSTART;TZID=America/New_York:20250829T120000
DTEND;TZID=America/New_York:20250829T124500
DTSTAMP:20260422T070000
CREATED:20250815T195444Z
LAST-MODIFIED:20250929T162050Z
UID:10007177-1756468800-1756471500@atlantaevergreen.com
SUMMARY:Keys To The Course Golf Demonstration
DESCRIPTION:As part of our Evergreen Experience resort offerings we feature Keys to the Course. Sign up to join this free lesson with our golf team. Our golf pro’s will showcase tips and tricks to improve your game. This 30 minute demonstration takes place on the greens at the clubhouse and is sure to be a fun afternoon event!
URL:https://atlantaevergreen.com/event/keys-to-the-course-golf-demonstration/2025-08-29/
LOCATION:Stone Mountain Golf Club\, 1145 Stonewall Jackson Drive\, Stone Mountain\, GA\, 30083\, United States
CATEGORIES:Golf,Outdoor,Resort
ATTACH;FMTTYPE=image/jpeg:https://atlantaevergreen.com/wp-content/uploads/2025/06/golf-17.jpg
END:VEVENT
BEGIN:VEVENT
DTSTART;TZID=America/New_York:20250829T130000
DTEND;TZID=America/New_York:20250829T200000
DTSTAMP:20260422T070000
CREATED:20250815T201425Z
LAST-MODIFIED:20251003T133442Z
UID:10006190-1756472400-1756497600@atlantaevergreen.com
SUMMARY:Poolside BBQ
DESCRIPTION:The latest beverage selections to enhance your visit.
URL:https://atlantaevergreen.com/event/poolside-bbq-2/2025-08-29/
LOCATION:Atlanta Evergreen Resort\, 4021 Lakeview Dr\, Stone Mountain\, GA\, 30083\, United States
CATEGORIES:Culinary,F&B,Resort
ATTACH;FMTTYPE=image/jpeg:https://atlantaevergreen.com/wp-content/uploads/2025/07/auto-draft-44.jpg
END:VEVENT
BEGIN:VEVENT
DTSTART;TZID=America/New_York:20250829T150000
DTEND;TZID=America/New_York:20250829T154500
DTSTAMP:20260422T070000
CREATED:20250321T183946Z
LAST-MODIFIED:20250815T205531Z
UID:10004712-1756479600-1756482300@atlantaevergreen.com
SUMMARY:Shuttle Tour of Stone Mountain Park
DESCRIPTION:Stone Mountain Park Offers Endless Adventures ~ Let Us Be Your Guide!\nWith so many areas to discover in the park\, our team welcomes you for a free semi-private tour around our wonderland.  Our guides will showcase the not-to-miss areas of the park while including facts\, lore and a few treasures along the way! \nThis complimentary tour has limited capacity and is on a first come basis.  Be sure to meet in the lobby at the scheduled departure time.  This is a special adventure you won’t want to miss. \nSchedule is subject to change without notice or compensation\, please inquire at the Front Desk for current schedule.
URL:https://atlantaevergreen.com/event/5217/2025-08-29/
LOCATION:GA
CATEGORIES:Family Friendly,Outdoor,Park,Resort
ATTACH;FMTTYPE=image/jpeg:https://atlantaevergreen.com/wp-content/uploads/2025/01/auto-draft-18.jpg
END:VEVENT
BEGIN:VEVENT
DTSTART;TZID=America/New_York:20250829T150000
DTEND;TZID=America/New_York:20250829T170000
DTSTAMP:20260422T070000
CREATED:20250310T180513Z
LAST-MODIFIED:20260128T162904Z
UID:10003301-1756479600-1756486800@atlantaevergreen.com
SUMMARY:Happy Hour at The Commons
DESCRIPTION:Join us for Happy Hour overlooking Stone Mountain Lake at Stone Mountain Golf Course each Friday afternoon from 3-5p. \nDrink & Food Specials \nThe perfect way to end the day! \nEnjoy curated menu and drink specials
URL:https://atlantaevergreen.com/event/happy-hour-at-the-commons/2025-08-29/
LOCATION:The Commons at Stone Mountain Golf Club\, 1145 Stonewall Jackson Drive\, Stone Mountain\, GA\, 30083\, United States
CATEGORIES:F&B,Golf
ATTACH;FMTTYPE=image/jpeg:https://atlantaevergreen.com/wp-content/uploads/2025/02/auto-draft-21.jpg
END:VEVENT
BEGIN:VEVENT
DTSTART;TZID=America/New_York:20250829T160000
DTEND;TZID=America/New_York:20250829T170000
DTSTAMP:20260422T070000
CREATED:20250815T204549Z
LAST-MODIFIED:20250915T155520Z
UID:10007176-1756483200-1756486800@atlantaevergreen.com
SUMMARY:On The Rocks ~ Cocktail Class
DESCRIPTION:As part of our Evergreen Experience resort offerings\, we invite you to join us poolside (or in The Tavern) for a lesson on making one of our special cocktails!
URL:https://atlantaevergreen.com/event/on-the-rocks-cocktail-class/2025-08-29/
LOCATION:Atlanta Evergreen Resort\, 4021 Lakeview Dr\, Stone Mountain\, GA\, 30083\, United States
CATEGORIES:Culinary,F&B,Outdoor,Resort
ATTACH;FMTTYPE=image/jpeg:https://atlantaevergreen.com/wp-content/uploads/2025/08/on-the-rocks-cocktail-class.jpg
END:VEVENT
BEGIN:VEVENT
DTSTART;TZID=America/New_York:20250829T210000
DTEND;TZID=America/New_York:20250829T213000
DTSTAMP:20260422T070000
CREATED:20250815T210425Z
LAST-MODIFIED:20250915T155738Z
UID:10007178-1756501200-1756503000@atlantaevergreen.com
SUMMARY:Starlight Milk & Cookies
DESCRIPTION:As part of our Evergreen Experience resort offerings we present an evening under the stars.  Join us at the Rocks Bar or The Tavern for a cookie\, milk and stargazing poolside.  Sweet Dreams….
URL:https://atlantaevergreen.com/event/starlight-milk-cookies/2025-08-29/
LOCATION:Atlanta Evergreen Resort\, 4021 Lakeview Dr\, Stone Mountain\, GA\, 30083\, United States
CATEGORIES:Culinary,Family Friendly,Outdoor,Resort
ATTACH;FMTTYPE=image/jpeg:https://atlantaevergreen.com/wp-content/uploads/2025/08/auto-draft-50.jpg
END:VEVENT
END:VCALENDAR