BEGIN:VCALENDAR
VERSION:2.0
PRODID:-//Atlanta Evergreen Lakeside Resort - ECPv6.15.11//NONSGML v1.0//EN
CALSCALE:GREGORIAN
METHOD:PUBLISH
X-ORIGINAL-URL:https://atlantaevergreen.com
X-WR-CALDESC:Events for Atlanta Evergreen Lakeside Resort
REFRESH-INTERVAL;VALUE=DURATION:PT1H
X-Robots-Tag:noindex
X-PUBLISHED-TTL:PT1H
BEGIN:VTIMEZONE
TZID:America/New_York
BEGIN:DAYLIGHT
TZOFFSETFROM:-0500
TZOFFSETTO:-0400
TZNAME:EDT
DTSTART:20240310T070000
END:DAYLIGHT
BEGIN:STANDARD
TZOFFSETFROM:-0400
TZOFFSETTO:-0500
TZNAME:EST
DTSTART:20241103T060000
END:STANDARD
BEGIN:DAYLIGHT
TZOFFSETFROM:-0500
TZOFFSETTO:-0400
TZNAME:EDT
DTSTART:20250309T070000
END:DAYLIGHT
BEGIN:STANDARD
TZOFFSETFROM:-0400
TZOFFSETTO:-0500
TZNAME:EST
DTSTART:20251102T060000
END:STANDARD
BEGIN:DAYLIGHT
TZOFFSETFROM:-0500
TZOFFSETTO:-0400
TZNAME:EDT
DTSTART:20260308T070000
END:DAYLIGHT
BEGIN:STANDARD
TZOFFSETFROM:-0400
TZOFFSETTO:-0500
TZNAME:EST
DTSTART:20261101T060000
END:STANDARD
END:VTIMEZONE
BEGIN:VEVENT
DTSTART;TZID=America/New_York:20250809T070000
DTEND;TZID=America/New_York:20250809T110000
DTSTAMP:20260422T120247
CREATED:20250529T175027Z
LAST-MODIFIED:20250929T173157Z
UID:10004882-1754722800-1754737200@atlantaevergreen.com
SUMMARY:Waterside Weekend Buffet
DESCRIPTION:Weekend buffets offer a selection of pastries\, fresh fruit\, yogurt\, biscuits and gravy\, eggs and proteins to energize your day!  Join us each weekend for our special weekend buffets.  (schedule subject to change) \nEnjoy Breakfast at the Waterside
URL:https://atlantaevergreen.com/event/waterside-weekend-buffet/2025-08-09/
LOCATION:Waterside Restaurant\, 4021 Lakeview Dr\, Stone Mountain\, GA\, 30083\, United States
CATEGORIES:Culinary
ATTACH;FMTTYPE=image/jpeg:https://atlantaevergreen.com/wp-content/uploads/2025/05/auto-draft-34.jpg
END:VEVENT
BEGIN:VEVENT
DTSTART;TZID=America/New_York:20250809T100000
DTEND;TZID=America/New_York:20250809T170000
DTSTAMP:20260422T120247
CREATED:20250131T201458Z
LAST-MODIFIED:20251111T220537Z
UID:10006452-1754733600-1754758800@atlantaevergreen.com
SUMMARY:Book Nook
DESCRIPTION:We invite you to exchange a book while you are with us!\nOur reading nook offers a selection of books for guests to trade with ones they have completed.  From kids’ books to adult topics\, we hope you will find something that enhances your visit. \nSelections will vary\, but please participate with the exchange while you are here. \nBook Exchange at Atlanta Evergreen
URL:https://atlantaevergreen.com/event/book-nook/2025-08-09/
LOCATION:Atlanta Evergreen Resort\, 4021 Lakeview Dr\, Stone Mountain\, GA\, 30083\, United States
CATEGORIES:Family Friendly,Resort
ATTACH;FMTTYPE=image/jpeg:https://atlantaevergreen.com/wp-content/uploads/2025/01/auto-draft-17.jpg
END:VEVENT
BEGIN:VEVENT
DTSTART;TZID=America/New_York:20250809T110000
DTEND;TZID=America/New_York:20250809T113000
DTSTAMP:20260422T120247
CREATED:20250321T173918Z
LAST-MODIFIED:20250815T205258Z
UID:10003707-1754737200-1754739000@atlantaevergreen.com
SUMMARY:Complimentary Stone Mountain Lake Tour
DESCRIPTION:Enjoy a guided cruise on Stone Mountain Lake during your next stay at Atlanta Evergreen. This complimentary cruise provides a tour with narration. \n  \nCruises depart promptly at the time listed and are on a first come basis. There is limited capacity for the cruise. All ages are welcomed\, sorry no pets allowed. Cruises are weather permitted and operate on a seasonal schedule. Times listed are estimated schedules\, but due to unforeseen circumstances\, may be cancelled without notice or compensation. Please inquire at the resort Front Desk for confirmed times/schedules.
URL:https://atlantaevergreen.com/event/complimentary-stone-mountain-lake-tour-3/2025-08-09/
LOCATION:Atlanta Evergreen Resort\, 4021 Lakeview Dr\, Stone Mountain\, GA\, 30083\, United States
CATEGORIES:Outdoor,Park,Resort
ATTACH;FMTTYPE=image/jpeg:https://atlantaevergreen.com/wp-content/uploads/2025/03/auto-draft-25.jpg
END:VEVENT
BEGIN:VEVENT
DTSTART;TZID=America/New_York:20250809T130000
DTEND;TZID=America/New_York:20250809T200000
DTSTAMP:20260422T120247
CREATED:20250716T193527Z
LAST-MODIFIED:20250808T191833Z
UID:10006179-1754744400-1754769600@atlantaevergreen.com
SUMMARY:Poolside BBQ
DESCRIPTION:The latest beverage selections to enhance your visit.
URL:https://atlantaevergreen.com/event/poolside-bbq/2025-08-09/
LOCATION:Atlanta Evergreen Resort\, 4021 Lakeview Dr\, Stone Mountain\, GA\, 30083\, United States
CATEGORIES:Culinary,F&B,Resort
ATTACH;FMTTYPE=image/jpeg:https://atlantaevergreen.com/wp-content/uploads/2025/07/auto-draft-44.jpg
END:VEVENT
END:VCALENDAR